BEGIN:VCALENDAR
VERSION:2.0
PRODID:-//Lyons Rod &amp; Gun Club - ECPv6.15.20//NONSGML v1.0//EN
CALSCALE:GREGORIAN
METHOD:PUBLISH
X-WR-CALNAME:Lyons Rod &amp; Gun Club
X-ORIGINAL-URL:https://lyonsrodandgunclub.com
X-WR-CALDESC:Events for Lyons Rod &amp; Gun Club
REFRESH-INTERVAL;VALUE=DURATION:PT1H
X-Robots-Tag:noindex
X-PUBLISHED-TTL:PT1H
BEGIN:VTIMEZONE
TZID:America/New_York
BEGIN:DAYLIGHT
TZOFFSETFROM:-0500
TZOFFSETTO:-0400
TZNAME:EDT
DTSTART:20240310T070000
END:DAYLIGHT
BEGIN:STANDARD
TZOFFSETFROM:-0400
TZOFFSETTO:-0500
TZNAME:EST
DTSTART:20241103T060000
END:STANDARD
BEGIN:DAYLIGHT
TZOFFSETFROM:-0500
TZOFFSETTO:-0400
TZNAME:EDT
DTSTART:20250309T070000
END:DAYLIGHT
BEGIN:STANDARD
TZOFFSETFROM:-0400
TZOFFSETTO:-0500
TZNAME:EST
DTSTART:20251102T060000
END:STANDARD
BEGIN:DAYLIGHT
TZOFFSETFROM:-0500
TZOFFSETTO:-0400
TZNAME:EDT
DTSTART:20260308T070000
END:DAYLIGHT
BEGIN:STANDARD
TZOFFSETFROM:-0400
TZOFFSETTO:-0500
TZNAME:EST
DTSTART:20261101T060000
END:STANDARD
END:VTIMEZONE
BEGIN:VEVENT
DTSTART;TZID=America/New_York:20251221T100000
DTEND;TZID=America/New_York:20251221T140000
DTSTAMP:20260420T023001
CREATED:20251111T005415Z
LAST-MODIFIED:20251111T005415Z
UID:202-1766311200-1766325600@lyonsrodandgunclub.com
SUMMARY:Winter Handicap League
DESCRIPTION:
URL:https://lyonsrodandgunclub.com/event/winter-handicap-league-4/
END:VEVENT
BEGIN:VEVENT
DTSTART;TZID=America/New_York:20251214T100000
DTEND;TZID=America/New_York:20251214T140000
DTSTAMP:20260420T023001
CREATED:20251111T005353Z
LAST-MODIFIED:20251111T005353Z
UID:200-1765706400-1765720800@lyonsrodandgunclub.com
SUMMARY:Winter Handicap League
DESCRIPTION:
URL:https://lyonsrodandgunclub.com/event/winter-handicap-league-3/
END:VEVENT
BEGIN:VEVENT
DTSTART;TZID=America/New_York:20251206T040000
DTEND;TZID=America/New_York:20251206T220000
DTSTAMP:20260420T023001
CREATED:20251111T004859Z
LAST-MODIFIED:20251111T004859Z
UID:191-1764993600-1765058400@lyonsrodandgunclub.com
SUMMARY:Member Christmas Party
DESCRIPTION:
URL:https://lyonsrodandgunclub.com/event/member-christmas-party/
END:VEVENT
BEGIN:VEVENT
DTSTART;TZID=America/New_York:20251116T100000
DTEND;TZID=America/New_York:20251116T140000
DTSTAMP:20260420T023001
CREATED:20251111T005324Z
LAST-MODIFIED:20251111T005324Z
UID:198-1763287200-1763301600@lyonsrodandgunclub.com
SUMMARY:Winter Handicap League
DESCRIPTION:
URL:https://lyonsrodandgunclub.com/event/winter-handicap-league-2/
END:VEVENT
BEGIN:VEVENT
DTSTART;TZID=America/New_York:20251109T100000
DTEND;TZID=America/New_York:20251109T140000
DTSTAMP:20260420T023001
CREATED:20251111T005229Z
LAST-MODIFIED:20251111T005229Z
UID:196-1762682400-1762696800@lyonsrodandgunclub.com
SUMMARY:Winter Handicap League
DESCRIPTION:
URL:https://lyonsrodandgunclub.com/event/winter-handicap-league/
END:VEVENT
END:VCALENDAR