BEGIN:VCALENDAR
VERSION:2.0
PRODID:-//Lyons Rod &amp; Gun Club - ECPv6.15.20//NONSGML v1.0//EN
CALSCALE:GREGORIAN
METHOD:PUBLISH
X-WR-CALNAME:Lyons Rod &amp; Gun Club
X-ORIGINAL-URL:https://lyonsrodandgunclub.com
X-WR-CALDESC:Events for Lyons Rod &amp; Gun Club
REFRESH-INTERVAL;VALUE=DURATION:PT1H
X-Robots-Tag:noindex
X-PUBLISHED-TTL:PT1H
BEGIN:VTIMEZONE
TZID:America/New_York
BEGIN:DAYLIGHT
TZOFFSETFROM:-0500
TZOFFSETTO:-0400
TZNAME:EDT
DTSTART:20250309T070000
END:DAYLIGHT
BEGIN:STANDARD
TZOFFSETFROM:-0400
TZOFFSETTO:-0500
TZNAME:EST
DTSTART:20251102T060000
END:STANDARD
BEGIN:DAYLIGHT
TZOFFSETFROM:-0500
TZOFFSETTO:-0400
TZNAME:EDT
DTSTART:20260308T070000
END:DAYLIGHT
BEGIN:STANDARD
TZOFFSETFROM:-0400
TZOFFSETTO:-0500
TZNAME:EST
DTSTART:20261101T060000
END:STANDARD
BEGIN:DAYLIGHT
TZOFFSETFROM:-0500
TZOFFSETTO:-0400
TZNAME:EDT
DTSTART:20270314T070000
END:DAYLIGHT
BEGIN:STANDARD
TZOFFSETFROM:-0400
TZOFFSETTO:-0500
TZNAME:EST
DTSTART:20271107T060000
END:STANDARD
END:VTIMEZONE
BEGIN:VEVENT
DTSTART;TZID=America/New_York:20260215T100000
DTEND;TZID=America/New_York:20260215T140000
DTSTAMP:20260419T212238
CREATED:20251111T005546Z
LAST-MODIFIED:20251111T005546Z
UID:210-1771149600-1771164000@lyonsrodandgunclub.com
SUMMARY:Winter Handicap League
DESCRIPTION:
URL:https://lyonsrodandgunclub.com/event/winter-handicap-league-8/
END:VEVENT
BEGIN:VEVENT
DTSTART;VALUE=DATE:20260221
DTEND;VALUE=DATE:20260222
DTSTAMP:20260419T212238
CREATED:20251111T005007Z
LAST-MODIFIED:20260111T233322Z
UID:194-1771632000-1771718399@lyonsrodandgunclub.com
SUMMARY:Game Dinner
DESCRIPTION:
URL:https://lyonsrodandgunclub.com/event/game-dinner/
END:VEVENT
BEGIN:VEVENT
DTSTART;TZID=America/New_York:20260221T083000
DTEND;TZID=America/New_York:20260221T113000
DTSTAMP:20260419T212238
CREATED:20260111T232829Z
LAST-MODIFIED:20260111T232829Z
UID:222-1771662600-1771673400@lyonsrodandgunclub.com
SUMMARY:Pistol Range Closed
DESCRIPTION:Pistol range has been rented for a private function.
URL:https://lyonsrodandgunclub.com/event/pistol-range-closed/
END:VEVENT
BEGIN:VEVENT
DTSTART;TZID=America/New_York:20260308T100000
DTEND;TZID=America/New_York:20260308T140000
DTSTAMP:20260419T212238
CREATED:20251111T005920Z
LAST-MODIFIED:20251111T005920Z
UID:212-1772964000-1772978400@lyonsrodandgunclub.com
SUMMARY:Winter Handicap League
DESCRIPTION:
URL:https://lyonsrodandgunclub.com/event/winter-handicap-league-9/
END:VEVENT
BEGIN:VEVENT
DTSTART;TZID=America/New_York:20260315T100000
DTEND;TZID=America/New_York:20260315T140000
DTSTAMP:20260419T212238
CREATED:20251111T005947Z
LAST-MODIFIED:20251111T005947Z
UID:214-1773568800-1773583200@lyonsrodandgunclub.com
SUMMARY:Winter Handicap League
DESCRIPTION:
URL:https://lyonsrodandgunclub.com/event/winter-handicap-league-10/
END:VEVENT
BEGIN:VEVENT
DTSTART;TZID=America/New_York:20260321T083000
DTEND;TZID=America/New_York:20260321T113000
DTSTAMP:20260419T212238
CREATED:20260111T232902Z
LAST-MODIFIED:20260111T232902Z
UID:224-1774081800-1774092600@lyonsrodandgunclub.com
SUMMARY:Pistol Range Closed
DESCRIPTION:Pistol range has been rented for a private function.
URL:https://lyonsrodandgunclub.com/event/pistol-range-closed-2/
END:VEVENT
BEGIN:VEVENT
DTSTART;TZID=America/New_York:20260412T100000
DTEND;TZID=America/New_York:20260412T140000
DTSTAMP:20260419T212238
CREATED:20251111T010022Z
LAST-MODIFIED:20251111T010022Z
UID:216-1775988000-1776002400@lyonsrodandgunclub.com
SUMMARY:Winter Handicap League - Final Shoot-Off
DESCRIPTION:
URL:https://lyonsrodandgunclub.com/event/winter-handicap-league-final-shoot-off/
END:VEVENT
BEGIN:VEVENT
DTSTART;TZID=America/New_York:20260418T083000
DTEND;TZID=America/New_York:20260418T113000
DTSTAMP:20260419T212238
CREATED:20260111T232938Z
LAST-MODIFIED:20260111T232938Z
UID:226-1776501000-1776511800@lyonsrodandgunclub.com
SUMMARY:Pistol Range Closed
DESCRIPTION:Pistol range has been rented for a private function.
URL:https://lyonsrodandgunclub.com/event/pistol-range-closed-3/
END:VEVENT
END:VCALENDAR